BEGIN:VCALENDAR
VERSION:2.0
PRODID:-//Carmel Baptist Church - ECPv6.15.13//NONSGML v1.0//EN
CALSCALE:GREGORIAN
METHOD:PUBLISH
X-ORIGINAL-URL:https://carmelbaptist.org
X-WR-CALDESC:Events for Carmel Baptist Church
REFRESH-INTERVAL;VALUE=DURATION:PT1H
X-Robots-Tag:noindex
X-PUBLISHED-TTL:PT1H
BEGIN:VTIMEZONE
TZID:America/New_York
BEGIN:DAYLIGHT
TZOFFSETFROM:-0500
TZOFFSETTO:-0400
TZNAME:EDT
DTSTART:20250309T070000
END:DAYLIGHT
BEGIN:STANDARD
TZOFFSETFROM:-0400
TZOFFSETTO:-0500
TZNAME:EST
DTSTART:20251102T060000
END:STANDARD
BEGIN:DAYLIGHT
TZOFFSETFROM:-0500
TZOFFSETTO:-0400
TZNAME:EDT
DTSTART:20260308T070000
END:DAYLIGHT
BEGIN:STANDARD
TZOFFSETFROM:-0400
TZOFFSETTO:-0500
TZNAME:EST
DTSTART:20261101T060000
END:STANDARD
BEGIN:DAYLIGHT
TZOFFSETFROM:-0500
TZOFFSETTO:-0400
TZNAME:EDT
DTSTART:20270314T070000
END:DAYLIGHT
BEGIN:STANDARD
TZOFFSETFROM:-0400
TZOFFSETTO:-0500
TZNAME:EST
DTSTART:20271107T060000
END:STANDARD
BEGIN:DAYLIGHT
TZOFFSETFROM:-0500
TZOFFSETTO:-0400
TZNAME:EDT
DTSTART:20280312T070000
END:DAYLIGHT
BEGIN:STANDARD
TZOFFSETFROM:-0400
TZOFFSETTO:-0500
TZNAME:EST
DTSTART:20281105T060000
END:STANDARD
END:VTIMEZONE
BEGIN:VEVENT
DTSTART;VALUE=DATE:20260616
DTEND;VALUE=DATE:20260624
DTSTAMP:20260421T094939
CREATED:20240125T195147Z
LAST-MODIFIED:20251111T185133Z
UID:10000168-1781568000-1782259199@carmelbaptist.org
SUMMARY:Bolivia Global Trip (FULL)
DESCRIPTION:Ladies Only:  Team will host a ladies retreat which will include bible studies\, workshops and other teaching opportunities that Carmel women can offer. Other areas that would be helpful are with product design\, marketing\, focus groups\, new markets or sales opportunities\, and production suggestions.\, focus groups\, new markets or sales opportunities\, production suggestions. \n 
URL:https://carmelbaptist.org/event/bolivia-global-trip/
CATEGORIES:Global Outreach - Nations,Global Trip
ATTACH;FMTTYPE=image/png:https://carmelbaptist.org/wp-content/uploads/2025/11/BOLIVIA-2-mission-trip_Event_FULL_650-x-418.avif
END:VEVENT
BEGIN:VEVENT
DTSTART;VALUE=DATE:20260622
DTEND;VALUE=DATE:20260628
DTSTAMP:20260421T094939
CREATED:20250114T015747Z
LAST-MODIFIED:20251103T204041Z
UID:10000980-1782086400-1782604799@carmelbaptist.org
SUMMARY:Poland Global Trip - Work + Outreach
DESCRIPTION:Family Friendly Trip – The team will mainly be serving with one of Carmel’s ministry partners\, working at the new EPIC Christian Training Center in Poland.  There will be work projects to support ongoing renovations at Lake EPIC facilities\, as well as\, relationship building with Amazing Grace Church in mini family camp\, outreach/street evangelism in the community\, prayer walking\, and serving in the community. \nDetails and Registration
URL:https://carmelbaptist.org/event/poland-global-trip-2/
CATEGORIES:Global Outreach - Nations,Global Trip
ATTACH;FMTTYPE=image/png:https://carmelbaptist.org/wp-content/uploads/2024/02/POLAND-mission-trip_Event_650-x-418.png
END:VEVENT
BEGIN:VEVENT
DTSTART;TZID=America/New_York:20260622T090000
DTEND;TZID=America/New_York:20260622T120000
DTSTAMP:20260421T094939
CREATED:20251212T192312Z
LAST-MODIFIED:20260316T124357Z
UID:10001176-1782118800-1782129600@carmelbaptist.org
SUMMARY:Vacation Bible School (VBS) 2026
DESCRIPTION:Join for Vacation Bible School: “ROME-in’ Around: The Good News Grows and Goes” June 22-25! VBS is for Carmel Preschool age 3 to CarmelKidz completed 3rd graders. This year\, children will have the opportunity to visit Rome and follow Paul’s journey to share the love of Jesus with others. Registration is now open. \n REGISTER HERE
URL:https://carmelbaptist.org/event/vacation-bible-school-vbs-2026/2026-06-22/
CATEGORIES:Kidz,Preschool
ATTACH;FMTTYPE=image/png:https://carmelbaptist.org/wp-content/uploads/2026/03/large-VBS-2026_REALM.avif
END:VEVENT
BEGIN:VEVENT
DTSTART;VALUE=DATE:20260626
DTEND;VALUE=DATE:20260705
DTSTAMP:20260421T094939
CREATED:20240125T195513Z
LAST-MODIFIED:20260105T141726Z
UID:10000169-1782432000-1783209599@carmelbaptist.org
SUMMARY:Peru Global Trip
DESCRIPTION:This team will partner with Calvary Church\, along with Craig and Daisy Tippie\, to lead outreach events\, and help with ongoing training for youth and adults in the church in Huacho\, Peru. \nPeru Trip Info – Learn more about this trip before applying! \nRegistration 
URL:https://carmelbaptist.org/event/peru-global-trip/
CATEGORIES:Global Outreach - Nations,Global Trip
ATTACH;FMTTYPE=image/png:https://carmelbaptist.org/wp-content/uploads/2025/11/PERU-mission-trip_Event_STUDENTS_650-x-418.avif
END:VEVENT
BEGIN:VEVENT
DTSTART;VALUE=DATE:20260628
DTEND;VALUE=DATE:20260703
DTSTAMP:20260421T094939
CREATED:20240125T195751Z
LAST-MODIFIED:20260105T140506Z
UID:10000170-1782604800-1783036799@carmelbaptist.org
SUMMARY:Charlotte Local Trip
DESCRIPTION:Our Charlotte Mission Trip will take students out of their comfort zones\, and immerse them in a setting that will feel like they are miles away. Students will gain confidence and experience sharing the Gospel while demonstrating the love of Christ to the least of these. \nWhen: June 28 – July 2\, 2026 \nCost: $250 \nWho: Students who have completed 7th-12th grade. \nTeam Size: 80 \nTeam Leader: Jason Salyer \nPlease click the Trip Info link below and read through all of the information and requirements as you prayerfully process applying for the mission trip. \nPLEASE NOTE *** STUDENT MUST APPLY\, NOT THE PARENT *** \nRECOMMENDATION: WRITE OUT YOUR ANSWERS ON A SEPARATE DOCUMENT AND COPY AND PASTE YOUR ANSWERS TO SUBMIT THE APPLICATION \nCharlotte Trip Info – Learn more about the trip before applying! \nApply Here             \n 
URL:https://carmelbaptist.org/event/charlotte-local-trip/
CATEGORIES:Local Outreach - Neighbors,Students
ATTACH;FMTTYPE=image/png:https://carmelbaptist.org/wp-content/uploads/2025/02/Charlotte-Trip-2-png.avif
END:VEVENT
BEGIN:VEVENT
DTSTART;VALUE=DATE:20260710
DTEND;VALUE=DATE:20260719
DTSTAMP:20260421T094939
CREATED:20251103T182429Z
LAST-MODIFIED:20251208T185227Z
UID:10001174-1783641600-1784419199@carmelbaptist.org
SUMMARY:Poland Global Trip - Conference Attendee Support
DESCRIPTION:Carmel has been invited to serve at a leaders’ conference being held at Lake Epic Conference Center. The team will be leading a program much like VBS and caring for the children\, ages 5-18\, of the attendees. \nDetails & Registration
URL:https://carmelbaptist.org/event/poland-global-trip-conference-attendee-support/
CATEGORIES:Global Outreach - Nations,Global Trip
ATTACH;FMTTYPE=image/png:https://carmelbaptist.org/wp-content/uploads/2025/11/POLAND-2-mission-trip_Event_650-x-418.avif
END:VEVENT
BEGIN:VEVENT
DTSTART;VALUE=DATE:20260713
DTEND;VALUE=DATE:20260718
DTSTAMP:20260421T094939
CREATED:20251212T193432Z
LAST-MODIFIED:20260406T183901Z
UID:10001181-1783900800-1784332799@carmelbaptist.org
SUMMARY:CarmelKidz Camp
DESCRIPTION:Carmel Kidz Camp\nCamp is a chance for just completed 4th-6th graders to leave the distractions of the city behind to experience godly community with their friends and encounter God himself in a special way. Our counselors have spent the year serving on Sundays and Wednesday nights and have a current background check. 2026 CarmelKidz Camp will be July 13-17. This year the theme is Tabernacle Camp. \nRegistration opens for Carmel Members on April 7 and for non-Carmel Members on April 20. Check your email for registration details. \n 
URL:https://carmelbaptist.org/event/carmelkidz-camp-3/
CATEGORIES:Kidz
ATTACH;FMTTYPE=image/png:https://carmelbaptist.org/wp-content/uploads/2024/08/CK-Camp_event_650-x-418.png
END:VEVENT
BEGIN:VEVENT
DTSTART;VALUE=DATE:20260802
DTEND;VALUE=DATE:20260808
DTSTAMP:20260421T094939
CREATED:20240125T201949Z
LAST-MODIFIED:20260105T140642Z
UID:10000172-1785628800-1786147199@carmelbaptist.org
SUMMARY:Joni & Friends North Carolina
DESCRIPTION:Volunteer with Joni & Friends NC at their Family Retreat Program and join your camper for meals\, program activities\, and free time activities.  In this role\, you will join your assigned camper for meals\, program activities\, and free time activities such as swimming\, boating\, hiking\, horseback riding\, and climbing walls.  After an afternoon break\, you will rejoin your camper and their family for evening activities. Volunteers may also serve in a specific program area such as children\, youth\, young adult\, arts & crafts\, recreation\, or music. \nJoni & Friends Trip Info – Learn more about the trip before applying! \nRegistration
URL:https://carmelbaptist.org/event/joni-friends-family-retreat-week-2/
CATEGORIES:Local Outreach - Neighbors,Special Needs - JOY
ATTACH;FMTTYPE=image/png:https://carmelbaptist.org/wp-content/uploads/2025/02/Joni-Friends-NC-png.avif
END:VEVENT
BEGIN:VEVENT
DTSTART;VALUE=DATE:20270126
DTEND;VALUE=DATE:20270127
DTSTAMP:20260421T094939
CREATED:20250107T194021Z
LAST-MODIFIED:20250219T174901Z
UID:10000975-1800921600-1801007999@carmelbaptist.org
SUMMARY:Milestone 5: Stepping Into Adulthood
DESCRIPTION:Do you feel like our culture is trying to redefine expectations regarding adulthood? Biblically\, parents are called to equip their children to become men and women of God. Families will learn how God has uniquely designed men and women\, and how we live out those roles. Our desire is to help our sons and daughters to embrace growing up into manhood or womanhood with a biblical mindset. \n\nKey Concepts: Biblical roles of men and women\, spiritual gifts\, spiritual disciplines\, service in the church and dealing with failure\nFocus: 9th – 10th grade students\nMilestone Celebration: Passage to Manhood/Womanhood\n\nParent Training \nAs primary disciple-makers we all need a little help learning how to pass on our faith and navigating our culture with a biblical worldview. That is why we host Stepping Into Adulthood Parenting Workshops each January. We discuss how God has uniquely designed men and women\, how we live out those roles\, and how to translate it to our sons and daughters to embrace growing up into manhood or womanhood with a biblical mindset. Plus\, you will learn about ways to celebrate this milestone as you participate with the community of parents that are on the same path as you. *The next Parent Training will be in January 2026.  \nHow do we celebrate Stepping Into Adulthood Milestone at Carmel? \nRite of Passage ceremonies are deeply personal and different for every family. There isn’t a one-size-fits-all approach. Therefore\, we walk alongside families to develop a unique celebration for their student at time and place that works best for the family. The key is to celebrate this Milestone in a special way will help make it memorable. This celebration can include a weekend trip\, a meal at their favorite restaurant\, doing a creative project\, a community gathering in the home\, the list could go on and on. When you are ready to walk your 10th-12th grade student through a Rite of Passage celebration let us know by filling out the form below so that we can pray for and support you through this milestone. \nRite of Passage Celebration Form
URL:https://carmelbaptist.org/event/milestone-stepping-into-adulthood-2/2027-01-26/
CATEGORIES:Milestone,Parenting,Students
ATTACH;FMTTYPE=image/png:https://carmelbaptist.org/wp-content/uploads/2024/02/MILESTONE_Stepping-Adulthood_650-x-418.png
END:VEVENT
END:VCALENDAR