BEGIN:VCALENDAR
VERSION:2.0
PRODID:-//Carmel Baptist Church - ECPv6.15.13//NONSGML v1.0//EN
CALSCALE:GREGORIAN
METHOD:PUBLISH
X-ORIGINAL-URL:https://carmelbaptist.org
X-WR-CALDESC:Events for Carmel Baptist Church
REFRESH-INTERVAL;VALUE=DURATION:PT1H
X-Robots-Tag:noindex
X-PUBLISHED-TTL:PT1H
BEGIN:VTIMEZONE
TZID:America/New_York
BEGIN:DAYLIGHT
TZOFFSETFROM:-0500
TZOFFSETTO:-0400
TZNAME:EDT
DTSTART:20230312T070000
END:DAYLIGHT
BEGIN:STANDARD
TZOFFSETFROM:-0400
TZOFFSETTO:-0500
TZNAME:EST
DTSTART:20231105T060000
END:STANDARD
BEGIN:DAYLIGHT
TZOFFSETFROM:-0500
TZOFFSETTO:-0400
TZNAME:EDT
DTSTART:20240310T070000
END:DAYLIGHT
BEGIN:STANDARD
TZOFFSETFROM:-0400
TZOFFSETTO:-0500
TZNAME:EST
DTSTART:20241103T060000
END:STANDARD
BEGIN:DAYLIGHT
TZOFFSETFROM:-0500
TZOFFSETTO:-0400
TZNAME:EDT
DTSTART:20250309T070000
END:DAYLIGHT
BEGIN:STANDARD
TZOFFSETFROM:-0400
TZOFFSETTO:-0500
TZNAME:EST
DTSTART:20251102T060000
END:STANDARD
END:VTIMEZONE
BEGIN:VEVENT
DTSTART;TZID=America/New_York:20240602T080000
DTEND;TZID=America/New_York:20240602T121500
DTSTAMP:20260423T051314
CREATED:20240522T145936Z
LAST-MODIFIED:20240522T150835Z
UID:10000826-1717315200-1717330500@carmelbaptist.org
SUMMARY:Sermon: When You Pray
DESCRIPTION:You are invited to join us Sundays from May 26 through August 11 for our sermon series on the Lord’s Prayer at 8:00\, 9:30 or 11:00am on campus or live online at 9:30am. \n  \n 
URL:https://carmelbaptist.org/event/sermon-when-we-pray/2024-06-02/
ATTACH;FMTTYPE=image/png:https://carmelbaptist.org/wp-content/uploads/2024/05/When-You-Pray_Event.png
END:VEVENT
BEGIN:VEVENT
DTSTART;TZID=America/New_York:20240609T080000
DTEND;TZID=America/New_York:20240609T121500
DTSTAMP:20260423T051314
CREATED:20240522T145936Z
LAST-MODIFIED:20240522T150835Z
UID:10000827-1717920000-1717935300@carmelbaptist.org
SUMMARY:Sermon: When You Pray
DESCRIPTION:You are invited to join us Sundays from May 26 through August 11 for our sermon series on the Lord’s Prayer at 8:00\, 9:30 or 11:00am on campus or live online at 9:30am. \n  \n 
URL:https://carmelbaptist.org/event/sermon-when-we-pray/2024-06-09/
ATTACH;FMTTYPE=image/png:https://carmelbaptist.org/wp-content/uploads/2024/05/When-You-Pray_Event.png
END:VEVENT
BEGIN:VEVENT
DTSTART;TZID=America/New_York:20240610T090000
DTEND;TZID=America/New_York:20240610T120000
DTSTAMP:20260423T051314
CREATED:20240131T211418Z
LAST-MODIFIED:20240506T174520Z
UID:10000130-1718010000-1718020800@carmelbaptist.org
SUMMARY:Vacation Bible School (VBS)
DESCRIPTION:This summer\, you’re invited to Getaway to Galilee VBS! We’ll journey with Jesus through the region of Galilee\, the place where 75-80% of Jesus’ ministry took place. We’ll follow in His footsteps and visit towns like Cana\, Capernaum\, Bethsaida and\, of course\, the Sea of Galilee! While we’re immersed in the stories of Jesus\, we’ll be captivated by both His heart and His hands. So\, come away with us and discover more about Jesus\, the Son of God\, Healer\, Miracle Maker\, and Savior. Make sure your summer plans include a “Getaway to Galilee!” \nVBS is for Carmel Preschool age 3 thru CarmelKidz completed 3rd graders.  The dates for VBS 2024 are June 10-13. \n REGISTER FOR VBS
URL:https://carmelbaptist.org/event/vacation-bible-school-vbs-2/
LOCATION:Carmel Baptist Church\, 1145 Pineville-Matthews Rd.\, Matthews\, NC\, 28105\, United States
CATEGORIES:Kidz,Preschool
ATTACH;FMTTYPE=image/png:https://carmelbaptist.org/wp-content/uploads/2024/02/Event-Photo-Template-650-x-418-px-2.png
END:VEVENT
BEGIN:VEVENT
DTSTART;TZID=America/New_York:20240611T090000
DTEND;TZID=America/New_York:20240611T120000
DTSTAMP:20260423T051314
CREATED:20240124T202205Z
LAST-MODIFIED:20240506T174439Z
UID:10000131-1718096400-1718107200@carmelbaptist.org
SUMMARY:Vacation Bible School (VBS)
DESCRIPTION:This summer\, you’re invited to Getaway to Galilee VBS! We’ll journey with Jesus through the region of Galilee\, the place where 75-80% of Jesus’ ministry took place. We’ll follow in His footsteps and visit towns like Cana\, Capernaum\, Bethsaida and\, of course\, the Sea of Galilee! While we’re immersed in the stories of Jesus\, we’ll be captivated by both His heart and His hands. So\, come away with us and discover more about Jesus\, the Son of God\, Healer\, Miracle Maker\, and Savior. Make sure your summer plans include a “Getaway to Galilee!” \nVBS is for Carmel Preschool age 3 thru CarmelKidz completed 3rd graders.  The dates for VBS 2024 are June 10-13. Registration opens March 18. Register here.
URL:https://carmelbaptist.org/event/vacation-bible-school-vbs/2024-06-11/
LOCATION:Carmel Baptist Church\, 1145 Pineville-Matthews Rd.\, Matthews\, NC\, 28105\, United States
CATEGORIES:Kidz,Preschool
ATTACH;FMTTYPE=image/png:https://carmelbaptist.org/wp-content/uploads/2024/02/Event-Photo-Template-650-x-418-px-2.png
END:VEVENT
BEGIN:VEVENT
DTSTART;TZID=America/New_York:20240612T090000
DTEND;TZID=America/New_York:20240612T120000
DTSTAMP:20260423T051314
CREATED:20240124T202205Z
LAST-MODIFIED:20240506T174439Z
UID:10000132-1718182800-1718193600@carmelbaptist.org
SUMMARY:Vacation Bible School (VBS)
DESCRIPTION:This summer\, you’re invited to Getaway to Galilee VBS! We’ll journey with Jesus through the region of Galilee\, the place where 75-80% of Jesus’ ministry took place. We’ll follow in His footsteps and visit towns like Cana\, Capernaum\, Bethsaida and\, of course\, the Sea of Galilee! While we’re immersed in the stories of Jesus\, we’ll be captivated by both His heart and His hands. So\, come away with us and discover more about Jesus\, the Son of God\, Healer\, Miracle Maker\, and Savior. Make sure your summer plans include a “Getaway to Galilee!” \nVBS is for Carmel Preschool age 3 thru CarmelKidz completed 3rd graders.  The dates for VBS 2024 are June 10-13. Registration opens March 18. Register here.
URL:https://carmelbaptist.org/event/vacation-bible-school-vbs/2024-06-12/
LOCATION:Carmel Baptist Church\, 1145 Pineville-Matthews Rd.\, Matthews\, NC\, 28105\, United States
CATEGORIES:Kidz,Preschool
ATTACH;FMTTYPE=image/png:https://carmelbaptist.org/wp-content/uploads/2024/02/Event-Photo-Template-650-x-418-px-2.png
END:VEVENT
BEGIN:VEVENT
DTSTART;TZID=America/New_York:20240612T183000
DTEND;TZID=America/New_York:20240612T200000
DTSTAMP:20260423T051314
CREATED:20240514T150301Z
LAST-MODIFIED:20240514T150301Z
UID:10000802-1718217000-1718222400@carmelbaptist.org
SUMMARY:Father & Son/Daughter Archery
DESCRIPTION:Hi Dads! \nIf you have a son or daughter who just finished 6th -12th grade\, you’re invited to join us for a summer tradition that’s been going on for over a decade. \nDads\, your presence and voice is vitally important to your son and daughter on their journey from child to adult. These sessions are designed to help you hit your relational targets as you move into the “rites of passage” years with your son or daughter who has completed 6th-12th grade. \nInvite your son or daughter to join you for fun & impacting Wednesday evenings of archery – designed to strengthen your relationship with each other\, with God\, and with other families. \n\n\nWhen: Wednesdays\, June 12-August 14 from  6:30-8:00pm.\nWhere: Carmel Christian High School gymnasium\nCost: $0\, registration required\nWhat should I bring? All gear and professional instruction is provided. All you have to bring is yourself and the son/daughter you have invited.\n\nEmail jimh@carmelbaptist.org with questions. \n REGISTER HERE
URL:https://carmelbaptist.org/event/father-son-daughter-archery/2024-06-12/
CATEGORIES:Men's,Parenting
END:VEVENT
BEGIN:VEVENT
DTSTART;TZID=America/New_York:20240613T090000
DTEND;TZID=America/New_York:20240613T120000
DTSTAMP:20260423T051314
CREATED:20240124T202205Z
LAST-MODIFIED:20240506T174439Z
UID:10000133-1718269200-1718280000@carmelbaptist.org
SUMMARY:Vacation Bible School (VBS)
DESCRIPTION:This summer\, you’re invited to Getaway to Galilee VBS! We’ll journey with Jesus through the region of Galilee\, the place where 75-80% of Jesus’ ministry took place. We’ll follow in His footsteps and visit towns like Cana\, Capernaum\, Bethsaida and\, of course\, the Sea of Galilee! While we’re immersed in the stories of Jesus\, we’ll be captivated by both His heart and His hands. So\, come away with us and discover more about Jesus\, the Son of God\, Healer\, Miracle Maker\, and Savior. Make sure your summer plans include a “Getaway to Galilee!” \nVBS is for Carmel Preschool age 3 thru CarmelKidz completed 3rd graders.  The dates for VBS 2024 are June 10-13. Registration opens March 18. Register here.
URL:https://carmelbaptist.org/event/vacation-bible-school-vbs/2024-06-13/
LOCATION:Carmel Baptist Church\, 1145 Pineville-Matthews Rd.\, Matthews\, NC\, 28105\, United States
CATEGORIES:Kidz,Preschool
ATTACH;FMTTYPE=image/png:https://carmelbaptist.org/wp-content/uploads/2024/02/Event-Photo-Template-650-x-418-px-2.png
END:VEVENT
BEGIN:VEVENT
DTSTART;TZID=America/New_York:20240616T080000
DTEND;TZID=America/New_York:20240616T121500
DTSTAMP:20260423T051314
CREATED:20240522T145936Z
LAST-MODIFIED:20240522T150835Z
UID:10000828-1718524800-1718540100@carmelbaptist.org
SUMMARY:Sermon: When You Pray
DESCRIPTION:You are invited to join us Sundays from May 26 through August 11 for our sermon series on the Lord’s Prayer at 8:00\, 9:30 or 11:00am on campus or live online at 9:30am. \n  \n 
URL:https://carmelbaptist.org/event/sermon-when-we-pray/2024-06-16/
ATTACH;FMTTYPE=image/png:https://carmelbaptist.org/wp-content/uploads/2024/05/When-You-Pray_Event.png
END:VEVENT
BEGIN:VEVENT
DTSTART;TZID=America/New_York:20240618T183000
DTEND;TZID=America/New_York:20240618T203000
DTSTAMP:20260423T051314
CREATED:20240301T184456Z
LAST-MODIFIED:20240514T163350Z
UID:10000713-1718735400-1718742600@carmelbaptist.org
SUMMARY:S3: Salads\, Stories + Serving
DESCRIPTION:All Carmel Women are invited to join us on Tuesday night\, June 18 at 6:30pm. Enjoy a light meal in the Uptown Auditorium\, hear stories of faith and have the opportunity to participate in a service project benefiting our community. Whether you’ve been at Carmel for a week or for many years\, this is a great time to meet other women in various seasons as we share an evening together. \nNew to Carmel? This is a perfect time to start connecting! \n REGISTER HERE
URL:https://carmelbaptist.org/event/s3-salads-stories-serving/
CATEGORIES:Women's
ATTACH;FMTTYPE=image/png:https://carmelbaptist.org/wp-content/uploads/2024/03/CW-S3-2024_event-card_256x224.png
END:VEVENT
BEGIN:VEVENT
DTSTART;TZID=America/New_York:20240619T183000
DTEND;TZID=America/New_York:20240619T200000
DTSTAMP:20260423T051314
CREATED:20240514T150301Z
LAST-MODIFIED:20240514T150301Z
UID:10000803-1718821800-1718827200@carmelbaptist.org
SUMMARY:Father & Son/Daughter Archery
DESCRIPTION:Hi Dads! \nIf you have a son or daughter who just finished 6th -12th grade\, you’re invited to join us for a summer tradition that’s been going on for over a decade. \nDads\, your presence and voice is vitally important to your son and daughter on their journey from child to adult. These sessions are designed to help you hit your relational targets as you move into the “rites of passage” years with your son or daughter who has completed 6th-12th grade. \nInvite your son or daughter to join you for fun & impacting Wednesday evenings of archery – designed to strengthen your relationship with each other\, with God\, and with other families. \n\n\nWhen: Wednesdays\, June 12-August 14 from  6:30-8:00pm.\nWhere: Carmel Christian High School gymnasium\nCost: $0\, registration required\nWhat should I bring? All gear and professional instruction is provided. All you have to bring is yourself and the son/daughter you have invited.\n\nEmail jimh@carmelbaptist.org with questions. \n REGISTER HERE
URL:https://carmelbaptist.org/event/father-son-daughter-archery/2024-06-19/
CATEGORIES:Men's,Parenting
END:VEVENT
BEGIN:VEVENT
DTSTART;TZID=America/New_York:20240623T080000
DTEND;TZID=America/New_York:20240623T121500
DTSTAMP:20260423T051314
CREATED:20240522T145936Z
LAST-MODIFIED:20240522T150835Z
UID:10000829-1719129600-1719144900@carmelbaptist.org
SUMMARY:Sermon: When You Pray
DESCRIPTION:You are invited to join us Sundays from May 26 through August 11 for our sermon series on the Lord’s Prayer at 8:00\, 9:30 or 11:00am on campus or live online at 9:30am. \n  \n 
URL:https://carmelbaptist.org/event/sermon-when-we-pray/2024-06-23/
ATTACH;FMTTYPE=image/png:https://carmelbaptist.org/wp-content/uploads/2024/05/When-You-Pray_Event.png
END:VEVENT
BEGIN:VEVENT
DTSTART;TZID=America/New_York:20240626T183000
DTEND;TZID=America/New_York:20240626T200000
DTSTAMP:20260423T051314
CREATED:20240514T150301Z
LAST-MODIFIED:20240514T150301Z
UID:10000804-1719426600-1719432000@carmelbaptist.org
SUMMARY:Father & Son/Daughter Archery
DESCRIPTION:Hi Dads! \nIf you have a son or daughter who just finished 6th -12th grade\, you’re invited to join us for a summer tradition that’s been going on for over a decade. \nDads\, your presence and voice is vitally important to your son and daughter on their journey from child to adult. These sessions are designed to help you hit your relational targets as you move into the “rites of passage” years with your son or daughter who has completed 6th-12th grade. \nInvite your son or daughter to join you for fun & impacting Wednesday evenings of archery – designed to strengthen your relationship with each other\, with God\, and with other families. \n\n\nWhen: Wednesdays\, June 12-August 14 from  6:30-8:00pm.\nWhere: Carmel Christian High School gymnasium\nCost: $0\, registration required\nWhat should I bring? All gear and professional instruction is provided. All you have to bring is yourself and the son/daughter you have invited.\n\nEmail jimh@carmelbaptist.org with questions. \n REGISTER HERE
URL:https://carmelbaptist.org/event/father-son-daughter-archery/2024-06-26/
CATEGORIES:Men's,Parenting
END:VEVENT
BEGIN:VEVENT
DTSTART;TZID=America/New_York:20240630T080000
DTEND;TZID=America/New_York:20240630T121500
DTSTAMP:20260423T051314
CREATED:20240522T145936Z
LAST-MODIFIED:20240522T150835Z
UID:10000830-1719734400-1719749700@carmelbaptist.org
SUMMARY:Sermon: When You Pray
DESCRIPTION:You are invited to join us Sundays from May 26 through August 11 for our sermon series on the Lord’s Prayer at 8:00\, 9:30 or 11:00am on campus or live online at 9:30am. \n  \n 
URL:https://carmelbaptist.org/event/sermon-when-we-pray/2024-06-30/
ATTACH;FMTTYPE=image/png:https://carmelbaptist.org/wp-content/uploads/2024/05/When-You-Pray_Event.png
END:VEVENT
END:VCALENDAR