BEGIN:VCALENDAR
VERSION:2.0
PRODID:-//Carmel Baptist Church - ECPv6.15.13//NONSGML v1.0//EN
CALSCALE:GREGORIAN
METHOD:PUBLISH
X-WR-CALNAME:Carmel Baptist Church
X-ORIGINAL-URL:https://carmelbaptist.org
X-WR-CALDESC:Events for Carmel Baptist Church
REFRESH-INTERVAL;VALUE=DURATION:PT1H
X-Robots-Tag:noindex
X-PUBLISHED-TTL:PT1H
BEGIN:VTIMEZONE
TZID:America/New_York
BEGIN:DAYLIGHT
TZOFFSETFROM:-0500
TZOFFSETTO:-0400
TZNAME:EDT
DTSTART:20250309T070000
END:DAYLIGHT
BEGIN:STANDARD
TZOFFSETFROM:-0400
TZOFFSETTO:-0500
TZNAME:EST
DTSTART:20251102T060000
END:STANDARD
BEGIN:DAYLIGHT
TZOFFSETFROM:-0500
TZOFFSETTO:-0400
TZNAME:EDT
DTSTART:20260308T070000
END:DAYLIGHT
BEGIN:STANDARD
TZOFFSETFROM:-0400
TZOFFSETTO:-0500
TZNAME:EST
DTSTART:20261101T060000
END:STANDARD
BEGIN:DAYLIGHT
TZOFFSETFROM:-0500
TZOFFSETTO:-0400
TZNAME:EDT
DTSTART:20270314T070000
END:DAYLIGHT
BEGIN:STANDARD
TZOFFSETFROM:-0400
TZOFFSETTO:-0500
TZNAME:EST
DTSTART:20271107T060000
END:STANDARD
END:VTIMEZONE
BEGIN:VEVENT
DTSTART;TZID=America/New_York:20260622T090000
DTEND;TZID=America/New_York:20260622T120000
DTSTAMP:20260423T045826
CREATED:20251212T192312Z
LAST-MODIFIED:20260316T124357Z
UID:10001176-1782118800-1782129600@carmelbaptist.org
SUMMARY:Vacation Bible School (VBS) 2026
DESCRIPTION:Join for Vacation Bible School: “ROME-in’ Around: The Good News Grows and Goes” June 22-25! VBS is for Carmel Preschool age 3 to CarmelKidz completed 3rd graders. This year\, children will have the opportunity to visit Rome and follow Paul’s journey to share the love of Jesus with others. Registration is now open. \n REGISTER HERE
URL:https://carmelbaptist.org/event/vacation-bible-school-vbs-2026/2026-06-22/
CATEGORIES:Kidz,Preschool
ATTACH;FMTTYPE=image/png:https://carmelbaptist.org/wp-content/uploads/2026/03/large-VBS-2026_REALM.avif
END:VEVENT
BEGIN:VEVENT
DTSTART;TZID=America/New_York:20260623T090000
DTEND;TZID=America/New_York:20260623T120000
DTSTAMP:20260423T045826
CREATED:20251212T192312Z
LAST-MODIFIED:20260316T124357Z
UID:10001177-1782205200-1782216000@carmelbaptist.org
SUMMARY:Vacation Bible School (VBS) 2026
DESCRIPTION:Join for Vacation Bible School: “ROME-in’ Around: The Good News Grows and Goes” June 22-25! VBS is for Carmel Preschool age 3 to CarmelKidz completed 3rd graders. This year\, children will have the opportunity to visit Rome and follow Paul’s journey to share the love of Jesus with others. Registration is now open. \n REGISTER HERE
URL:https://carmelbaptist.org/event/vacation-bible-school-vbs-2026/2026-06-23/
CATEGORIES:Kidz,Preschool
ATTACH;FMTTYPE=image/png:https://carmelbaptist.org/wp-content/uploads/2026/03/large-VBS-2026_REALM.avif
END:VEVENT
BEGIN:VEVENT
DTSTART;TZID=America/New_York:20260624T090000
DTEND;TZID=America/New_York:20260624T120000
DTSTAMP:20260423T045826
CREATED:20251212T192312Z
LAST-MODIFIED:20260316T124357Z
UID:10001178-1782291600-1782302400@carmelbaptist.org
SUMMARY:Vacation Bible School (VBS) 2026
DESCRIPTION:Join for Vacation Bible School: “ROME-in’ Around: The Good News Grows and Goes” June 22-25! VBS is for Carmel Preschool age 3 to CarmelKidz completed 3rd graders. This year\, children will have the opportunity to visit Rome and follow Paul’s journey to share the love of Jesus with others. Registration is now open. \n REGISTER HERE
URL:https://carmelbaptist.org/event/vacation-bible-school-vbs-2026/2026-06-24/
CATEGORIES:Kidz,Preschool
ATTACH;FMTTYPE=image/png:https://carmelbaptist.org/wp-content/uploads/2026/03/large-VBS-2026_REALM.avif
END:VEVENT
BEGIN:VEVENT
DTSTART;TZID=America/New_York:20260625T090000
DTEND;TZID=America/New_York:20260625T120000
DTSTAMP:20260423T045826
CREATED:20251212T192312Z
LAST-MODIFIED:20260316T124357Z
UID:10001179-1782378000-1782388800@carmelbaptist.org
SUMMARY:Vacation Bible School (VBS) 2026
DESCRIPTION:Join for Vacation Bible School: “ROME-in’ Around: The Good News Grows and Goes” June 22-25! VBS is for Carmel Preschool age 3 to CarmelKidz completed 3rd graders. This year\, children will have the opportunity to visit Rome and follow Paul’s journey to share the love of Jesus with others. Registration is now open. \n REGISTER HERE
URL:https://carmelbaptist.org/event/vacation-bible-school-vbs-2026/2026-06-25/
CATEGORIES:Kidz,Preschool
ATTACH;FMTTYPE=image/png:https://carmelbaptist.org/wp-content/uploads/2026/03/large-VBS-2026_REALM.avif
END:VEVENT
END:VCALENDAR